BEGIN:VCALENDAR
VERSION:2.0
PRODID:Descubra a Costa Vicentina e o Algarve! ☀️
X-WR-CALNAME:Descubra a Costa Vicentina e o Algarve! ☀️
X-WR-TIMEZONE:Europe/Lisbon
X-PUBLISHED-TTL:P1W
BEGIN:VTIMEZONE
TZID:Europe/Lisbon
X-LIC-LOCATION:Europe/Lisbon
END:VTIMEZONE
BEGIN:VEVENT
UID:69e8b6804eecf
DTSTART;VALUE=DATE:20260515
SEQUENCE:0
TRANSP:OPAQUE
DTEND;VALUE=DATE:20260516
SUMMARY:Descubra a Costa Vicentina e o Algarve! ☀️
CLASS:PUBLIC
DESCRIPTION:Descubra a Costa Vicentina e o Algarve!&nbsp\;A Junta de Fregue
 sia de Santa Luzia convida todos a participar numa viagem inesquecível en
 tre 15 e 19 de maio de 2026! Roteiro:&nbsp\;15 Maio – Funchal / Lisboa /
  Alcácer do Sal / Sines&nbsp\;16 Maio – Sines / Porto Covo / Odemira / 
 Zambujeira do Mar / Vila Nova de Milfontes ou Aljezur (Região)&nbsp\;17 M
 aio – Vila Nova de Milfontes ou Aljezur (Região) / Odeceixe / Vila do B
 ispo / Sagres / Quarteira&nbsp\;18 Maio – Quarteira / Lagos / Silves / V
 ilamoura / Quarteira&nbsp\;19 Maio – Quarteira / Olhão / Tavira / Vila 
 Real de Santo António / Lisboa / Funchal&nbsp\;Datas: 15 a 19 de Maio de 
 2026&nbsp\;Inscrições:&nbsp\;Centro de Convívio Santa Luzia –&nbsp\;&
 nbsp\;291 141 863&nbsp\;Agência de Viagem Madeira Viagem –&nbsp\;&nbsp\
 ;291 241 133&nbsp\;Garanta já o seu lugar e venha desfrutar das paisagens
  deslumbrantes\, cultura e gastronomia do sul de Portugal!&nbsp\;
X-MICROSOFT-CDO-ALLDAYEVENT:TRUE
DTSTAMP:20260422T115232Z
END:VEVENT
END:VCALENDAR